BEGIN:VCALENDAR
VERSION:2.0
PRODID:-//OmniMagnetCalendar//EN
BEGIN:VEVENT
DTSTAMP:20190625T195740Z
STATUS:CONFIRMED
UID:uanyc.com397
DTSTART:20151011T020000Z
DTEND:20151011T050000Z
LOCATION:The Ainsworth, 122 West 26th Street, New York, NY, 10001,
SUMMARY:Arkansas Football Game Watch Party
DESCRIPTION:The Tide takes on the Razorbacks at home!
BEGIN:VALARM
TRIGGER:-PT15M
ACTION:DISPLAY
END:VALARM
TRANSP:OPAQUE
END:VEVENT
END:VCALENDAR
