BEGIN:VCALENDAR
VERSION:2.0
PRODID:-//OmniMagnetCalendar//EN
BEGIN:VEVENT
DTSTAMP:20190625T195740Z
STATUS:CONFIRMED
UID:uanyc.com407
DTSTART:20151213T033000Z
DTEND:20151213T060000Z
LOCATION:PlayStation Theater, 1515 Broadway, New , NY, 10036,
SUMMARY:2015 Heisman Trophy Rally for Derrick Henry
DESCRIPTION:Let's welcome Derrick to the Big Apple!
BEGIN:VALARM
TRIGGER:-PT15M
ACTION:DISPLAY
END:VALARM
TRANSP:OPAQUE
END:VEVENT
END:VCALENDAR
