BEGIN:VCALENDAR
VERSION:2.0
PRODID:-//OmniMagnetCalendar//EN
BEGIN:VEVENT
DTSTAMP:20190625T195740Z
STATUS:CONFIRMED
UID:uanyc.com408
DTSTART:20160101T020000Z
DTEND:20160101T060000Z
LOCATION:American Whiskey, 247 West 30th Street, New York, NY, 10001,
SUMMARY:Michigan State Football Game Watch Party at American Whiskey
DESCRIPTION:Cotton Bowl Time Y'all!
BEGIN:VALARM
TRIGGER:-PT15M
ACTION:DISPLAY
END:VALARM
TRANSP:OPAQUE
END:VEVENT
END:VCALENDAR
