BEGIN:VCALENDAR
VERSION:2.0
PRODID:-//OmniMagnetCalendar//EN
BEGIN:VEVENT
DTSTAMP:20190625T195740Z
STATUS:CONFIRMED
UID:uanyc.com414
DTSTART:20160904T000000Z
DTEND:20160904T030000Z
LOCATION:The Ainsworth, 122 West 26th Street, New York, NY, 10001,
SUMMARY:USC Football Game Watch Party
DESCRIPTION:College football is back and UANYC returns to The Ainsworth!
BEGIN:VALARM
TRIGGER:-PT15M
ACTION:DISPLAY
END:VALARM
TRANSP:OPAQUE
END:VEVENT
END:VCALENDAR
