BEGIN:VCALENDAR
VERSION:2.0
PRODID:-//OmniMagnetCalendar//EN
BEGIN:VEVENT
DTSTAMP:20190625T195740Z
STATUS:CONFIRMED
UID:uanyc.com429
DTSTART:20170415T190000Z
DTEND:20170415T223000Z
LOCATION:Ainsworth Park, 111 East 18th Street, New York, NY, 10003,
SUMMARY:2017 A-Day Game Watch Party
DESCRIPTION:Enjoy a nice spring afternoon with a some Alabama football!
BEGIN:VALARM
TRIGGER:-PT15M
ACTION:DISPLAY
END:VALARM
TRANSP:OPAQUE
END:VEVENT
END:VCALENDAR
