BEGIN:VCALENDAR
VERSION:2.0
PRODID:-//OmniMagnetCalendar//EN
BEGIN:VEVENT
DTSTAMP:20190625T195740Z
STATUS:CONFIRMED
UID:uanyc.com431
DTSTART:20170903T000000Z
DTEND:20170903T030000Z
LOCATION:Ainsworth, 122 West 26th Street, New York, NY, 10001,
SUMMARY:Florida State Game Watch Party
DESCRIPTION:Football season starts now...
BEGIN:VALARM
TRIGGER:-PT15M
ACTION:DISPLAY
END:VALARM
TRANSP:OPAQUE
END:VEVENT
END:VCALENDAR
