BEGIN:VCALENDAR
VERSION:2.0
PRODID:-//OmniMagnetCalendar//EN
BEGIN:VEVENT
DTSTAMP:20190625T195740Z
STATUS:CONFIRMED
UID:uanyc.com440
DTSTART:20171112T010000Z
DTEND:20171112T040000Z
LOCATION:The Ainsworth, 122 West 26th Street, New York, NY, 10001,
SUMMARY:Mississippi State Football Game Watch Party
DESCRIPTION:We're Rolling!
BEGIN:VALARM
TRIGGER:-PT15M
ACTION:DISPLAY
END:VALARM
TRANSP:OPAQUE
END:VEVENT
END:VCALENDAR
