BEGIN:VCALENDAR
VERSION:2.0
PRODID:-//OmniMagnetCalendar//EN
BEGIN:VEVENT
DTSTAMP:20190625T195740Z
STATUS:CONFIRMED
UID:uanyc.com445
DTSTART:20180102T024500Z
DTEND:20180102T054500Z
LOCATION:The Ainsworth, 122 West 26th Street, New York, 10001,
SUMMARY:Playoff Game Watch Party - Clemson
DESCRIPTION:The Tide takes on Clemson in the Sugar Bowl
BEGIN:VALARM
TRIGGER:-PT15M
ACTION:DISPLAY
END:VALARM
TRANSP:OPAQUE
END:VEVENT
END:VCALENDAR
