BEGIN:VCALENDAR
VERSION:2.0
PRODID:-//OmniMagnetCalendar//EN
BEGIN:VEVENT
DTSTAMP:20190625T195740Z
STATUS:CONFIRMED
UID:uanyc.com446
DTSTART:20180317T161000Z
DTEND:20180102T054500Z
LOCATION:The Ainsworth, 122 West 26th Street, New York, 10001,
SUMMARY:NCAA Tournament Game Watch Party - Villanova
DESCRIPTION:The Tide takes on Villanova in the second round of the NCAA tournament
BEGIN:VALARM
TRIGGER:-PT15M
ACTION:DISPLAY
END:VALARM
TRANSP:OPAQUE
END:VEVENT
END:VCALENDAR
