BEGIN:VCALENDAR
VERSION:2.0
PRODID:-//OmniMagnetCalendar//EN
BEGIN:VEVENT
DTSTAMP:20190625T195740Z
STATUS:CONFIRMED
UID:uanyc.com451
DTSTART:20180724T223000Z
DTEND:20180725T003000Z
LOCATION:Grey Bar, 43 West 26th Street, New York, NY, 10010,
SUMMARY:UANYC Summer Mixer
DESCRIPTION:Meet summer interns & new graduates
BEGIN:VALARM
TRIGGER:-PT15M
ACTION:DISPLAY
END:VALARM
TRANSP:OPAQUE
END:VEVENT
END:VCALENDAR
