BEGIN:VCALENDAR
VERSION:2.0
PRODID:-//OmniMagnetCalendar//EN
BEGIN:VEVENT
DTSTAMP:20190625T195740Z
STATUS:CONFIRMED
UID:uanyc.com467
DTSTART:20180413T180000Z
DTEND:20190413T210000Z
LOCATION:Ainsworth Chelsea , New York, NY,
SUMMARY:A-Day Game Watch Party
DESCRIPTION:Join us for some spring football!
BEGIN:VALARM
TRIGGER:-PT15M
ACTION:DISPLAY
END:VALARM
TRANSP:OPAQUE
END:VEVENT
END:VCALENDAR
