BEGIN:VCALENDAR
VERSION:2.0
PRODID:-//OmniMagnetCalendar//EN
BEGIN:VEVENT
DTSTAMP:20190625T195740Z
STATUS:CONFIRMED
UID:uanyc.com485
DTSTART:20190928T193000Z
DTEND:20190928T223000Z
LOCATION:The Ainsworth, 122 West 26th Street, New York, NY, 10001,
SUMMARY:Ole Miss Football Game Watch Party
DESCRIPTION:Alabama vs. Ole Miss!
BEGIN:VALARM
TRIGGER:-PT15M
ACTION:DISPLAY
END:VALARM
TRANSP:OPAQUE
END:VEVENT
END:VCALENDAR
