BEGIN:VCALENDAR
VERSION:2.0
PRODID:-//OmniMagnetCalendar//EN
BEGIN:VEVENT
DTSTAMP:20190625T195740Z
STATUS:CONFIRMED
UID:uanyc.com505
DTSTART:20211010T000000Z
DTEND:20211010T050000Z
LOCATION:The Ainsworth - Chelsea, 122 W 26th St, New York City, NY, 10001, United States,
SUMMARY:Bama vs Texas A&M Game Watch Party Information (October 9th, 2021)
DESCRIPTION:
BEGIN:VALARM
TRIGGER:-PT15M
ACTION:DISPLAY
END:VALARM
TRANSP:OPAQUE
END:VEVENT
END:VCALENDAR
