BEGIN:VCALENDAR
VERSION:2.0
PRODID:-//OmniMagnetCalendar//EN
BEGIN:VEVENT
DTSTAMP:20190625T195740Z
STATUS:CONFIRMED
UID:uanyc.com508
DTSTART:20211209T000000Z
DTEND:20211209T030000Z
LOCATION:Ainsworth East Village , 64 3rd Ave, New York, NY, 10003, USA,
SUMMARY:2021 UANYC Holiday Party
DESCRIPTION:Tickets Available here!!
BEGIN:VALARM
TRIGGER:-PT15M
ACTION:DISPLAY
END:VALARM
TRANSP:OPAQUE
END:VEVENT
END:VCALENDAR
