BEGIN:VCALENDAR
VERSION:2.0
PRODID:-//OmniMagnetCalendar//EN
BEGIN:VEVENT
DTSTAMP:20190625T195740Z
STATUS:CONFIRMED
UID:uanyc.com510
DTSTART:20220111T010000Z
DTEND:20220111T050000Z
LOCATION:Ainsworth East Village , 64 3rd Ave, New York, NY, 10003, USA,
SUMMARY:2021 National Championship: Bama vs Georgia Game Watch Party Information (January 10th, 2022)
DESCRIPTION:
BEGIN:VALARM
TRIGGER:-PT15M
ACTION:DISPLAY
END:VALARM
TRANSP:OPAQUE
END:VEVENT
END:VCALENDAR
