BEGIN:VCALENDAR
VERSION:2.0
PRODID:-//OmniMagnetCalendar//EN
BEGIN:VEVENT
DTSTAMP:20190625T195740Z
STATUS:CONFIRMED
UID:uanyc.com515
DTSTART:20220903T233000Z
DTEND:20220904T060000Z
LOCATION:SAINT, 136 2nd ave, New York, NY, 10003, USA,
SUMMARY:2022 Season Kick Off: Bama vs Utah State Game Watch Party Information (September 3, 2022)
DESCRIPTION:
BEGIN:VALARM
TRIGGER:-PT15M
ACTION:DISPLAY
END:VALARM
TRANSP:OPAQUE
END:VEVENT
END:VCALENDAR
